BEGIN:VCALENDAR
VERSION:2.0
PRODID:-//GEOTRACES - ECPv6.15.20//NONSGML v1.0//EN
CALSCALE:GREGORIAN
METHOD:PUBLISH
X-ORIGINAL-URL:https://www.geotraces.org
X-WR-CALDESC:Events for GEOTRACES
REFRESH-INTERVAL;VALUE=DURATION:PT1H
X-Robots-Tag:noindex
X-PUBLISHED-TTL:PT1H
BEGIN:VTIMEZONE
TZID:Europe/Paris
BEGIN:DAYLIGHT
TZOFFSETFROM:+0100
TZOFFSETTO:+0200
TZNAME:CEST
DTSTART:20060326T010000
END:DAYLIGHT
BEGIN:STANDARD
TZOFFSETFROM:+0200
TZOFFSETTO:+0100
TZNAME:CET
DTSTART:20061029T010000
END:STANDARD
BEGIN:DAYLIGHT
TZOFFSETFROM:+0100
TZOFFSETTO:+0200
TZNAME:CEST
DTSTART:20070325T010000
END:DAYLIGHT
BEGIN:STANDARD
TZOFFSETFROM:+0200
TZOFFSETTO:+0100
TZNAME:CET
DTSTART:20071028T010000
END:STANDARD
BEGIN:DAYLIGHT
TZOFFSETFROM:+0100
TZOFFSETTO:+0200
TZNAME:CEST
DTSTART:20080330T010000
END:DAYLIGHT
BEGIN:STANDARD
TZOFFSETFROM:+0200
TZOFFSETTO:+0100
TZNAME:CET
DTSTART:20081026T010000
END:STANDARD
END:VTIMEZONE
BEGIN:VEVENT
DTSTART;VALUE=DATE:20071106
DTEND;VALUE=DATE:20071109
DTSTAMP:20260421T104300
CREATED:20110728T110313Z
LAST-MODIFIED:20110728T110313Z
UID:1741-1194307200-1194566399@www.geotraces.org
SUMMARY:2007 GEOTRACES Scientific Steering Committee meeting
DESCRIPTION:2007 GEOTRACES SSC MeetingDates: 6-8 November 2007Location:  Barcelona\, Spain
URL:https://www.geotraces.org/event/2007-geotraces-scientific-steering-committee-meeting/
CATEGORIES:GEOTRACES Meetings
END:VEVENT
END:VCALENDAR